BEGIN:VCALENDAR
VERSION:2.0
PRODID:-//ChamberMaster//Event Calendar 2.0//EN
METHOD:PUBLISH
X-PUBLISHED-TTL:P3D
REFRESH-INTERVAL:P3D
CALSCALE:GREGORIAN
BEGIN:VEVENT
DTSTART;VALUE=DATE:20240214
DTEND;VALUE=DATE:20240215
TRANSP:TRANSPARENT
X-MICROSOFT-CDO-ALLDAYEVENT:TRUE
SUMMARY:2024 CADA Summit
DESCRIPTION:2024 CADA Summit in Toronto\n\nCADA Summit is Canada's premier automotive conference. Held in conjunction with the Canadian International Auto Show\, the event brings together dealers\, OEMs\, lenders and suppliers for a full day of learning and analysis from leading experts. This event always sells out so make sure to mark your calendars for February 14\, 2024 to ensure you don't miss out! TD Auto Finance is the exclusive sponsor of CADA Summit.\n\n\n\nLearn more and register here.
X-ALT-DESC;FMTTYPE=text/html:<p><span style="font-size:16px\;"><strong>2024 CADA Summit in Toronto</strong></span></p>\n\n<p>CADA Summit is Canada&rsquo\;s premier automotive conference. Held in conjunction with the Canadian International Auto Show\, the event brings together dealers\, OEMs\, lenders and suppliers for a full day of learning and analysis from leading experts. This event always sells out so make sure to mark your calendars for February 14\, 2024 to ensure you don&rsquo\;t miss out! TD Auto Finance is the exclusive sponsor of CADA Summit.</p>\n\n<p><br />\n<a href="https://cada.ca/CADA/CADA/Events/2024/Summit-Sommet/Summit2024-Sommet2024.aspx?hkey=8aef08e4-ada8-4fb5-b410-f756fcf9adcd">Learn more and register here.</a></p>\n
LOCATION:
UID:e.9238.1148
SEQUENCE:3
DTSTAMP:20260420T180614Z
URL:http://newcardealers.memberzone.com/events/details/2024-cada-summit-1148
END:VEVENT

END:VCALENDAR
