BEGIN:VCALENDAR
VERSION:2.0
PRODID:-//ChamberMaster//Event Calendar 2.0//EN
METHOD:PUBLISH
X-PUBLISHED-TTL:P3D
REFRESH-INTERVAL:P3D
CALSCALE:GREGORIAN
BEGIN:VEVENT
DTSTART:20240415T190000Z
DTEND:20240419T010000Z
X-MICROSOFT-CDO-ALLDAYEVENT:FALSE
SUMMARY:Auction for Athletes
DESCRIPTION:Supporting SOBC and the New Car Dealers Foundation of BC\n\n\nThe Auction for Athletes is returning April 15 to 18\, 2024\, for another year of driving life-changing support for Special Olympics BC! \n\nFor more 35 years\, B.C.'s New Car Dealers have been making a difference through the Auction for Athletes. The annual online auction raises vital funds to empower Special Olympics athletes with intellectual disabilities\, and help the New Car Dealers Foundation of BC award automotive industry grants and scholarships. \n\nWith your generous donations and bids in the Auction for Athletes\, you help Special Olympics BC create empowering connections\, open hearts and minds to inclusion\, and break down barriers in 55 communities throughout the province.\n\nThe auction website annually attracts hundreds of visitors from around the province\, bidding on sought-after items and experiences including new cars\, electronics\, autographed memorabilia\, sporting goods\, gift cards\, and more.
X-ALT-DESC;FMTTYPE=text/html:<div class="field field--name-field-sub-heading field--type-string field--label-hidden field__item" style="box-sizing: inherit\; min-width: 0px\; min-height: 0px\; font-size: 1.95312em\; line-height: 1.25em\; margin-bottom: 1em\; color: rgb(38\, 38\, 38)\; font-family: Ubuntu\, sans-serif\;">Supporting SOBC and the New Car Dealers Foundation of BC</div>\n\n<div class="clearfix text-formatted field field--name-body field--type-text-with-summary field--label-hidden field__item" style="box-sizing: inherit\; min-width: 0px\; min-height: 0px\; color: rgb(38\, 38\, 38)\; font-family: Ubuntu\, sans-serif\; font-size: 16px\;">\n<p style="box-sizing: inherit\; min-width: 0px\; min-height: 0px\; font-size: 1em\; line-height: 1.5625em\; margin: 0px 0px 1em\;">The&nbsp\;<span style="box-sizing: inherit\; min-width: 0px\; min-height: 0px\; font-weight: 700\;">Auction for Athletes</span>&nbsp\;is returning April 15 to 18\, 2024\, for another year of driving life-changing support for Special Olympics BC!&nbsp\;</p>\n\n<p style="box-sizing: inherit\; min-width: 0px\; min-height: 0px\; font-size: 1em\; line-height: 1.5625em\; margin: 0px 0px 1em\;">For more 35 years\, B.C.&rsquo\;s New Car Dealers have been making a difference through the Auction for Athletes. The annual online auction raises vital funds to empower Special Olympics athletes with intellectual disabilities\, and help the New Car Dealers Foundation of BC award automotive industry grants and scholarships.&nbsp\;</p>\n\n<p style="box-sizing: inherit\; min-width: 0px\; min-height: 0px\; font-size: 1em\; line-height: 1.5625em\; margin: 0px 0px 1em\;">With your generous donations and bids in the Auction for Athletes\, you help Special Olympics BC create empowering connections\, open hearts and minds to inclusion\, and break down barriers in 55 communities throughout the province.</p>\n\n<p style="box-sizing: inherit\; min-width: 0px\; min-height: 0px\; font-size: 1em\; line-height: 1.5625em\; margin: 0px 0px 1em\;">The auction website annually attracts hundreds of visitors from around the province\, bidding on sought-after items and experiences including new cars\, electronics\, autographed memorabilia\, sporting goods\, gift cards\, and more.</p>\n</div>\n\n<div class="_linksLayer_1ythq_40" style="font-weight: inherit\; box-sizing: border-box\; bottom: 0px\; height: 0px\; left: 0px\; position: absolute\; transform-origin: left top\; width: 0px\; transform: scale(1.75)\;">&nbsp\;</div>\n
LOCATION:Online: Auction for Athletes 2024 | Holding page (givergy.ca)
UID:e.9238.1150
SEQUENCE:3
DTSTAMP:20260420T130419Z
URL:http://newcardealers.memberzone.com/events/details/auction-for-athletes-1150
END:VEVENT

END:VCALENDAR
