BEGIN:VCALENDAR
VERSION:2.0
PRODID:-//ChamberMaster//Event Calendar 2.0//EN
METHOD:PUBLISH
X-PUBLISHED-TTL:P3D
REFRESH-INTERVAL:P3D
CALSCALE:GREGORIAN
BEGIN:VEVENT
DTSTART;VALUE=DATE:20250407
DTEND;VALUE=DATE:20250411
TRANSP:TRANSPARENT
X-MICROSOFT-CDO-ALLDAYEVENT:TRUE
SUMMARY:Auction for Athletes
DESCRIPTION:The Auction for Athletes returns April 7 to 10\, 2025\, for another year of driving life-changing support for Special Olympics BC! \n\nFor more 40 years\, B.C.'s New Car Dealers have been making a difference through the Auction for Athletes\, raising over $5.65 million! The annual online auction raises vital funds to empower Special Olympics athletes with intellectual disabilities\, and help the New Car Dealers Foundation of BC award automotive industry grants and scholarships. \n\nWe need your help to continue this tradition of support! Your donations and bids make a real difference\, enabling Special Olympics BC to create empowering connections\, open hearts and minds to inclusion\, and break down barriers in 55 communities throughout the province.\n\nThe auction website annually attracts hundreds of visitors from around the province\, bidding on sought-after items and experiences including new cars\, electronics\, autographed memorabilia\, sporting goods\, gift cards\, and more. Whether you donate an item or place a bid\, your generosity directly impact the lives of Special Olympics athletes.\n\n\n\nDonate to Auction
X-ALT-DESC;FMTTYPE=text/html:<p style="box-sizing: inherit\; min-width: 0px\; min-height: 0px\; font-size: 16px\; line-height: 1.5625em\; margin: 0px 0px 1em\; color: rgb(38\, 38\, 38)\; font-family: Ubuntu\, sans-serif\;">The&nbsp\;<span style="box-sizing: inherit\; min-width: 0px\; min-height: 0px\; font-weight: 700\;">Auction for Athletes</span>&nbsp\;returns April 7 to 10\, 2025\, for another year of driving life-changing support for Special Olympics BC!&nbsp\;</p>\n\n<p data-uw-rm-sr="" style="box-sizing: inherit\; min-width: 0px\; min-height: 0px\; font-size: 16px\; line-height: 1.5625em\; margin: 0px 0px 1em\; color: rgb(38\, 38\, 38)\; font-family: Ubuntu\, sans-serif\;">For more 40 years\, B.C.&rsquo\;s New Car Dealers have been making a difference through the Auction for Athletes\, raising over $5.65 million! The annual online auction raises vital funds to empower Special Olympics athletes with intellectual disabilities\, and help the New Car Dealers Foundation of BC award automotive industry grants and scholarships.&nbsp\;</p>\n\n<p style="box-sizing: inherit\; min-width: 0px\; min-height: 0px\; font-size: 16px\; line-height: 1.5625em\; margin: 0px 0px 1em\; color: rgb(38\, 38\, 38)\; font-family: Ubuntu\, sans-serif\;">We need your help to continue this tradition of support! Your donations and bids make a real difference\, enabling Special Olympics BC to create empowering connections\, open hearts and minds to inclusion\, and break down barriers in 55 communities throughout the province.</p>\n\n<p style="box-sizing: inherit\; min-width: 0px\; min-height: 0px\; font-size: 16px\; line-height: 1.5625em\; margin: 0px 0px 1em\; color: rgb(38\, 38\, 38)\; font-family: Ubuntu\, sans-serif\;">The auction website annually attracts hundreds of visitors from around the province\, bidding on sought-after items and experiences including new cars\, electronics\, autographed memorabilia\, sporting goods\, gift cards\, and more. Whether you donate an item or place a bid\, your generosity directly impact the lives of Special Olympics athletes.<br />\n<br />\n<a href="https://form.jotform.com/243175521001240"><strong>Donate to Auction</strong></a></p>\n
LOCATION:Participate in the Online Auction
UID:e.9238.1159
SEQUENCE:3
DTSTAMP:20260419T115925Z
URL:http://newcardealers.memberzone.com/events/details/auction-for-athletes-1159
END:VEVENT

END:VCALENDAR
