BEGIN:VCALENDAR
VERSION:2.0
PRODID:-//ChamberMaster//Event Calendar 2.0//EN
METHOD:PUBLISH
X-PUBLISHED-TTL:P3D
REFRESH-INTERVAL:P3D
CALSCALE:GREGORIAN
BEGIN:VEVENT
DTSTART;VALUE=DATE:20210203
DTEND;VALUE=DATE:20210204
TRANSP:TRANSPARENT
X-MICROSOFT-CDO-ALLDAYEVENT:TRUE
SUMMARY:Canada's Automotive Summit - Registration Open
DESCRIPTION:Registration is open for CADA Summit! Your Summit 2021 experience gives you a front-row seat for outstanding speakers\, including:\n\n \n\n	Stephen Poloz\, Former Governor\, Bank of Canada\n	David Frum\, Political commentator\n	Jeremy Gutsche\, CEO of Trend Hunter and New York Times bestselling author of Better and Faster\n\n \n\nJoin on February 3rd\, 2021. Click here to register for CADA Summit 2021.
X-ALT-DESC;FMTTYPE=text/html:<span style="color:#403F42\;"><span style="font-family:segoe ui\,sans-serif\;"><span style="font-size:12.0pt\;">Registration is open for CADA Summit! Your Summit 2021 experience gives you a front-row seat for outstanding speakers\, including:</span></span></span><br />\n&nbsp\;\n<ul>\n	<li><span style="color:#403F42\;"><span style="font-family:segoe ui\,sans-serif\;"><span style="font-size:12.0pt\;">Stephen Poloz\, Former Governor\, Bank of Canada</span></span></span></li>\n	<li><span style="color:#403F42\;"><span style="font-family:segoe ui\,sans-serif\;"><span style="font-size:12.0pt\;">David Frum\, Political commentator</span></span></span></li>\n	<li><span style="color:#403F42\;"><span style="font-family:segoe ui\,sans-serif\;"><span style="font-size:12.0pt\;">Jeremy Gutsche\, CEO of Trend Hunter and New York Times bestselling author of Better and Faster</span></span></span></li>\n</ul>\n&nbsp\;<br />\n<span style="color:#403F42\;"><span style="font-family:segoe ui\,sans-serif\;"><span style="font-size:12.0pt\;">Join on February 3rd\, 2021. <a href="http://r20.rs6.net/tn.jsp?f=001nGHlsyA-emgna_H0dJ1vrbLAayQ9UCjiUPRkj2kxtGV2HJEQleNRFQ4mOQD_0b7hPVRoqpIwH22Fepb_gt3hrDuI4TtHTsEZyYAiQ4-scAERMHTy02atkr3bsCkfrtfZsQfG3WM2JPYEHjxVucmLGJIGcUKnwKQkDuRUW1EzmgoNHvpErTNyi3MFXiRL15gzbN-cqvMcLYxcNNOZ6VMsJ8NGTEhhrhspNtaW1-rEHzGq3c8cz75e0hOAUfyw7sTO&amp\;c=dz_dAGZf2m4dDLqtAAqpBJw82l2V_ySrBfBN5_KEZkbJCkHrlg6A4g==&amp\;ch=Rl_NTLYIGkJGMRxOyeXAo8wlnJXrH82DjPa3G_F773YJIHuMCt-8Vw==" target="_blank"><span style="color:#14387F\;">Click here to register</span></a> for CADA Summit 2021.</span></span></span>
LOCATION:For more info please go to here.
UID:e.9238.1105
SEQUENCE:3
DTSTAMP:20260423T165111Z
URL:http://newcardealers.memberzone.com/events/details/canada-s-automotive-summit-registration-open-1105
END:VEVENT

END:VCALENDAR
