BEGIN:VCALENDAR
VERSION:2.0
PRODID:-//ChamberMaster//Event Calendar 2.0//EN
METHOD:PUBLISH
X-PUBLISHED-TTL:P3D
REFRESH-INTERVAL:P3D
CALSCALE:GREGORIAN
BEGIN:VEVENT
DTSTART:20241204T193000Z
DTEND:20241204T210000Z
X-MICROSOFT-CDO-ALLDAYEVENT:FALSE
SUMMARY:Chair's Tour & Holiday Lunch - Surrey
DESCRIPTION:Join the New Car Dealers Association of BC (NCDA) for a Holiday lunch and Chair's Tour on Wednesday Dec. 4th\, 2024 in Surrey.\n\n\n\nFood and drink will be provided as well as gift bags for attendees sponsored by CARFAX. \n\nThere will also be presentations from speakers including: Ann Marie Clark\, NCDA Chair\, and Blair Qualey\, NCDA's President and CEO.\n\n\n\nThanks to CADA and SiriusXM for helping make this event possible.
X-ALT-DESC;FMTTYPE=text/html:<span style="font-family:arial\;"><span style="color: rgb(64\, 63\, 66)\; white-space-collapse: preserve\;">Join the New Car Dealers Association of BC (NCDA) for a Holiday lunch and Chair&#39\;s Tour on </span></span><span style="color: rgb(64\, 63\, 66)\; white-space-collapse: preserve\; font-family: Arial\, Verdana\, Helvetica\, sans-serif\; font-weight: bold\;"><span style="font-family:arial\;">Wednesday Dec. 4th\, 2024 in Surrey<span style="font-size: 12px\;">.</span></span></span><br />\n<br />\nFood and drink will be provided as well as gift bags for attendees sponsored by <a href="https://www.carfax.ca/resource-centre/">CARFAX</a>.&nbsp\;<br />\nThere will also be presentations from speakers including: Ann Marie Clark\, NCDA Chair\, and Blair Qualey\, NCDA&#39\;s President and CEO.<br />\n<br />\nThanks to <a href="https://www.cada.ca/web/CADA/home.aspx">CADA </a>and <a href="https://www.siriusxm.ca/">SiriusXM</a> for helping make this event possible.
LOCATION:Civic Hotel\, Autograph Collection. Surrey BC - Close to Surrey Central Sky Train Station Parking Instructions
UID:e.9238.1156
SEQUENCE:3
DTSTAMP:20260419T172214Z
URL:http://newcardealers.memberzone.com/events/details/chair-s-tour-holiday-lunch-surrey-1156
END:VEVENT

END:VCALENDAR
