BEGIN:VCALENDAR
VERSION:2.0
PRODID:-//ChamberMaster//Event Calendar 2.0//EN
METHOD:PUBLISH
X-PUBLISHED-TTL:P3D
REFRESH-INTERVAL:P3D
CALSCALE:GREGORIAN
BEGIN:VEVENT
DTSTART:20241024T183000Z
DTEND:20241024T200000Z
X-MICROSOFT-CDO-ALLDAYEVENT:FALSE
SUMMARY:Chair's Tour Lunch - Vancouver
DESCRIPTION:Join the New Car Dealers Association of BC's (NCDA) and fellow Greater Vancouver area dealer members for lunch and the New Car Dealers Chair's Tour on Thursday\, October 24th in Vancouver\n\n\n\nThanks to CADA and SiriusXM for helping make this event possible.
X-ALT-DESC;FMTTYPE=text/html:<span style="font-family:arial\;"><span style="color: rgb(64\, 63\, 66)\; white-space-collapse: preserve\;">Join the New Car Dealers Association of BC&#39\;s (NCDA) and fellow Greater Vancouver area dealer members for lunch and the New Car Dealers Chair&#39\;s Tour on </span></span><span style="color: rgb(64\, 63\, 66)\; white-space-collapse: preserve\; font-family: Arial\, Verdana\, Helvetica\, sans-serif\; font-weight: bold\;"><span style="font-family:arial\;">Thursday\, October 24th in Vancouver</span></span><br />\n<br />\nThanks to CADA and SiriusXM for helping make this event possible.
LOCATION:Shangri-La Hotel
UID:e.9238.1154
SEQUENCE:3
DTSTAMP:20260420T004827Z
URL:http://newcardealers.memberzone.com/events/details/chair-s-tour-lunch-vancouver-1154
END:VEVENT

END:VCALENDAR
