BEGIN:VCALENDAR
VERSION:2.0
PRODID:-//ChamberMaster//Event Calendar 2.0//EN
METHOD:PUBLISH
X-PUBLISHED-TTL:P3D
REFRESH-INTERVAL:P3D
CALSCALE:GREGORIAN
BEGIN:VEVENT
DTSTART:20210114T180000Z
DTEND:20210114T190000Z
X-MICROSOFT-CDO-ALLDAYEVENT:FALSE
SUMMARY:COVID-19 Vaccine in the Workplace
DESCRIPTION:COVID-19 Vaccine in the Workplace: Employment Law\, Benefits & Well-Being\n\nWhen: Thursday\, January 14th | 10:00 AM - 11:00 AM PST\n\n \n\nRegister to attend this webinar\, presented by HUB.\n\n \n\nAs the COVID-19 vaccine becomes a reality\, employers will need to determine their workplace policies. Organizations with essential workers\, or those who cannot maintain social distancing\, may consider mandatory vaccination programs. Hear from experts at HUB present on this important topic.\n\n\n\nTo register click here
X-ALT-DESC;FMTTYPE=text/html:<span style="color:#403F42\;"><span style="font-family:segoe ui\,sans-serif\;"><span style="font-size:12.0pt\;">COVID-19 Vaccine in the Workplace: Employment Law\, Benefits &amp\; Well-Being</span></span></span><br />\n<strong><span style="color:#403F42\;"><span style="font-family:segoe ui\,sans-serif\;"><span style="font-size:12.0pt\;">When: Thursday\, January 14th | 10:00 AM - 11:00 AM PST</span></span></span></strong><br />\n&nbsp\;<br />\n<span style="color:#403F42\;"><span style="font-family:segoe ui\,sans-serif\;"><span style="font-size:12.0pt\;">Register to attend this webinar\, presented by HUB.</span></span></span><br />\n&nbsp\;<br />\n<span style="color:#403F42\;"><span style="font-family:segoe ui\,sans-serif\;"><span style="font-size:12.0pt\;">As the COVID-19 vaccine becomes a reality\, employers will need to determine their workplace policies. Organizations with essential workers\, or those who cannot maintain social distancing\, may consider mandatory vaccination programs. Hear from experts at HUB present on this important topic.<br />\n<br />\n<a href="https://register.gotowebinar.com/register/3541197511236812811?source=HUBEMAIL">To register click here</a></span></span></span>
LOCATION:For more info please go to here.
UID:e.9238.1104
SEQUENCE:3
DTSTAMP:20260423T170312Z
URL:http://newcardealers.memberzone.com/events/details/covid-19-vaccine-in-the-workplace-1104
END:VEVENT

END:VCALENDAR
