BEGIN:VCALENDAR
VERSION:2.0
PRODID:-//ChamberMaster//Event Calendar 2.0//EN
METHOD:PUBLISH
X-PUBLISHED-TTL:P3D
REFRESH-INTERVAL:P3D
CALSCALE:GREGORIAN
BEGIN:VEVENT
DTSTART:20211021T020000Z
DTEND:20211021T050000Z
X-MICROSOFT-CDO-ALLDAYEVENT:FALSE
SUMMARY:DUNE\, A Private Member Film Screening\, complimentary of Warner Bros. Pictures Canada.
DESCRIPTION:On behalf of the New Car Dealers Association of BC\, you are invited to a private viewing of the highly-anticipated upcoming film\, DUNE\, complimentary of Warner Bros. Pictures Canada. The film will be screening on October 20th at 7PM PT at Cineplex Riverport.\n\nPlease indicate your interest in attending so the NCDA can order the right number of passes. Leave your name and email in the form above. Each movie pass is redeemable for 2 people so you can bring a guest!
X-ALT-DESC;FMTTYPE=text/html:<p>On behalf of the New Car Dealers Association of BC\, you are invited to a private viewing of the highly-anticipated upcoming film\,&nbsp\;DUNE\, complimentary of&nbsp\;Warner Bros. Pictures Canada.&nbsp\;The film will be screening on&nbsp\;<strong>October 20th at 7PM PT at Cineplex Riverport.</strong></p>\n\n<p>Please indicate your interest in attending so the NCDA can order the right number of passes. Leave your name and email in the form above. <strong>Each movie pass is redeemable for 2 people so you can bring a guest!</strong></p>\n
LOCATION:Cineplex Riverport - 14211 Entertainment Way\, Richmond\, BC V6W 1K4
UID:e.9238.1119
SEQUENCE:3
DTSTAMP:20260422T223252Z
URL:http://newcardealers.memberzone.com/events/details/dune-a-private-member-film-screening-complimentary-of-warner-bros-pictures-canada-1119
END:VEVENT

END:VCALENDAR
