BEGIN:VCALENDAR
VERSION:2.0
PRODID:-//ChamberMaster//Event Calendar 2.0//EN
METHOD:PUBLISH
X-PUBLISHED-TTL:P3D
REFRESH-INTERVAL:P3D
CALSCALE:GREGORIAN
BEGIN:VEVENT
DTSTART:20210825T170000Z
DTEND:20210825T180000Z
X-MICROSOFT-CDO-ALLDAYEVENT:FALSE
SUMMARY:Expert Panel Series: Transitioning from COVID-19 to communicable disease prevention in the workplace
DESCRIPTION:Beginning with Step 3 of the provincial government's BC's Restart plan\, employers are no longer be required to maintain a COVID-19 Safety Plan\, and will instead transition to communicable disease prevention.\n\nSpecial Guest: Hear from Chris Back\, director of OHS Consultation and Education Services\, where he will discuss the fundamental components of communicable disease prevention (CDP) and shares information and resources to support employers in developing their CDP plans.\n\n \n\nThanks to CADA and 360 Programs for making this event possible.
X-ALT-DESC;FMTTYPE=text/html:Beginning with Step 3 of the provincial government&rsquo\;s BC&rsquo\;s Restart plan\, employers are no longer be required to maintain a COVID-19 Safety Plan\, and will instead transition to communicable disease prevention.<br />\nSpecial Guest: Hear from Chris Back\, director of OHS Consultation and Education Services\, where he will discuss the fundamental components of communicable disease prevention (CDP) and shares information and resources to support employers in developing their CDP plans.<br />\n&nbsp\;<br />\nThanks to CADA and 360 Programs for making this event possible.&nbsp\;
LOCATION:
UID:e.9238.1118
SEQUENCE:3
DTSTAMP:20260423T023936Z
URL:http://newcardealers.memberzone.com/events/details/expert-panel-series-transitioning-from-covid-19-to-communicable-disease-prevention-in-the-workplace-1118
END:VEVENT

END:VCALENDAR
