BEGIN:VCALENDAR
VERSION:2.0
PRODID:-//ChamberMaster//Event Calendar 2.0//EN
METHOD:PUBLISH
X-PUBLISHED-TTL:P3D
REFRESH-INTERVAL:P3D
CALSCALE:GREGORIAN
BEGIN:VEVENT
DTSTART:20200923T180000Z
DTEND:20200923T190000Z
X-MICROSOFT-CDO-ALLDAYEVENT:FALSE
SUMMARY:Join MNP Webinar Series - What Dealerships Can Do to Re-Emerge Stronger from the Pandemic
DESCRIPTION:Wednesday\, September 23\, 2020 | 11:00 am PST\n\n\n\nAnswering the Top 10 Questions from Dealerships\n\nYou've got questions   we have answers. Join our panel of experts who will provide clarity as they discuss the top questions from dealership leaders.\n\nRegister now: https://bit.ly/2FfrFeF
X-ALT-DESC;FMTTYPE=text/html:<span style="font-family:arial\;"><span style="text-align: left\; color: rgb(68\, 68\, 68)\; text-transform: none\; text-indent: 0px\; letter-spacing: normal\; font-style: normal\; font-weight: 400\; word-spacing: 0px\; display: inline !important\; white-space: normal\; orphans: 2\; widows: 2\; float: none\; -webkit-text-stroke-width: 0px\; background-color: rgb(255\, 255\, 255)\;">Wednesday\, September 23\, 2020 | 11:00 am PST</span><br />\n<br style="box-sizing: content-box\; bottom: auto\; clear: none\; color: rgb(68\, 68\, 68)\; content: normal\; direction: inherit\; display: inline\; empty-cells: show\; float: none\; font-style: normal\; font-variant-ligatures: normal\; font-variant-caps: normal\; font-variant-numeric: inherit\; font-variant-east-asian: inherit\; font-weight: 400\; font-stretch: inherit\; font-size: 14px\; font-family: Arial\, Helvetica\, sans-serif\; left: auto\; letter-spacing: normal\; line-height: inherit\; margin: 0px\; max-height: none\; max-width: none\; min-height: initial\; min-width: initial\; opacity: 1\; outline-offset: 0px\; overflow: visible\; padding: 0px\; position: static\; resize: none\; right: auto\; table-layout: auto\; text-align: left\; text-decoration: none\; text-indent: 0px\; text-overflow: clip\; text-transform: none\; top: auto\; vertical-align: baseline\; visibility: inherit\; white-space: normal\; word-break: inherit\; word-spacing: 0px\; overflow-wrap: inherit\; z-index: auto\; background: none rgb(255\, 255\, 255)\; border: none\; border-collapse: separate\; border-radius: 0px\; height: auto\; width: auto\; orphans: 2\; widows: 2\; -webkit-text-stroke-width: 0px\;" />\n<span style="text-align: left\; color: rgb(68\, 68\, 68)\; text-transform: none\; text-indent: 0px\; letter-spacing: normal\; font-style: normal\; font-weight: 400\; word-spacing: 0px\; display: inline !important\; white-space: normal\; orphans: 2\; widows: 2\; float: none\; -webkit-text-stroke-width: 0px\; background-color: rgb(255\, 255\, 255)\;">Answering the Top 10 Questions from Dealerships</span><br style="box-sizing: content-box\; bottom: auto\; clear: none\; color: rgb(68\, 68\, 68)\; content: normal\; direction: inherit\; display: inline\; empty-cells: show\; float: none\; font-style: normal\; font-variant-ligatures: normal\; font-variant-caps: normal\; font-variant-numeric: inherit\; font-variant-east-asian: inherit\; font-weight: 400\; font-stretch: inherit\; font-size: 14px\; font-family: Arial\, Helvetica\, sans-serif\; left: auto\; letter-spacing: normal\; line-height: inherit\; margin: 0px\; max-height: none\; max-width: none\; min-height: initial\; min-width: initial\; opacity: 1\; outline-offset: 0px\; overflow: visible\; padding: 0px\; position: static\; resize: none\; right: auto\; table-layout: auto\; text-align: left\; text-decoration: none\; text-indent: 0px\; text-overflow: clip\; text-transform: none\; top: auto\; vertical-align: baseline\; visibility: inherit\; white-space: normal\; word-break: inherit\; word-spacing: 0px\; overflow-wrap: inherit\; z-index: auto\; background: none rgb(255\, 255\, 255)\; border: none\; border-collapse: separate\; border-radius: 0px\; height: auto\; width: auto\; orphans: 2\; widows: 2\; -webkit-text-stroke-width: 0px\;" />\n<span style="text-align: left\; color: rgb(68\, 68\, 68)\; text-transform: none\; text-indent: 0px\; letter-spacing: normal\; font-style: normal\; font-weight: 400\; word-spacing: 0px\; display: inline !important\; white-space: normal\; orphans: 2\; widows: 2\; float: none\; -webkit-text-stroke-width: 0px\; background-color: rgb(255\, 255\, 255)\;">You&rsquo\;ve got questions &mdash\; we have answers. Join our panel of experts who will provide clarity as they discuss the top questions from dealership leaders.</span><br />\n<font color="#0b0122">Register now: <a href="https://www.mnp.ca/en/dealerships/finding-your-way-webinar-series?utm_medium=organic_post&amp\;utm_source=ncda_email&amp\;utm_campaign=finding_your_way_webinar_series&amp\;utm_term=dealerships+webinar&amp\;utm_content=dealerships_webinar_ncda_email1_registration_finding_your_way">https://bit.ly/2FfrFeF</a></font><span style="text-align: left\; color: rgb(68\, 68\, 68)\; text-transform: none\; text-indent: 0px\; letter-spacing: normal\; font-style: normal\; font-weight: 400\; word-spacing: 0px\; display: inline !important\; white-space: normal\; orphans: 2\; widows: 2\; float: none\; -webkit-text-stroke-width: 0px\; background-color: rgb(255\, 255\, 255)\;">&nbsp\;</span></span><br />\n&nbsp\;
LOCATION:
UID:e.9238.1101
SEQUENCE:3
DTSTAMP:20260423T233415Z
URL:http://newcardealers.memberzone.com/events/details/join-mnp-webinar-series-what-dealerships-can-do-to-re-emerge-stronger-from-the-pandemic-09-23-2020-1101
END:VEVENT

END:VCALENDAR
