BEGIN:VCALENDAR
VERSION:2.0
PRODID:-//ChamberMaster//Event Calendar 2.0//EN
METHOD:PUBLISH
X-PUBLISHED-TTL:P3D
REFRESH-INTERVAL:P3D
CALSCALE:GREGORIAN
BEGIN:VEVENT
DTSTART:20200916T180000Z
DTEND:20200916T190000Z
X-MICROSOFT-CDO-ALLDAYEVENT:FALSE
SUMMARY:Join MNP Webinar Series - What Dealerships Can Do to Re-Emerge Stronger from the Pandemic
DESCRIPTION:Save Your Spot for our Upcoming Webinars: \n\n\n\nWednesday\, September 16\, 2020 | 11:00 am PST\n\n  Part One: Revolutionizing the Parts and Service Department\n\n  Part Two: Preserving Cash through Effective Tax Planning\n\nNCM Associates' Steve Hall highlights how COVID-19 has created opportunities for your parts and service department to innovate. In part two\, MNP's Kim Drever reviews how you can maximize cash flow during unpredictable times\, and the tax implications in the months ahead.\n\n \n\nWednesday\, September 23\, 2020 | 11:00 am PST\n\nAnswering the Top 10 Questions from Dealerships\n\nYou've got questions   we have answers. Join our panel of experts who will provide clarity as they discuss the top questions from dealership leaders.
X-ALT-DESC;FMTTYPE=text/html:<p>Save Your Spot for our Upcoming Webinars:&nbsp\;</p>\n\n<p><br />\nWednesday\, September 16\, 2020 | 11:00 am PST<br />\n&bull\;&nbsp\;Part One: Revolutionizing the Parts and Service Department<br />\n&bull\;&nbsp\;Part Two: Preserving Cash through Effective Tax Planning<br />\nNCM Associates&rsquo\; Steve Hall highlights how COVID-19 has created opportunities for your parts and service department to innovate. In part two\, MNP&rsquo\;s Kim Drever reviews how you can maximize cash flow during unpredictable times\, and the tax implications in the months ahead.<br />\n&nbsp\;<br />\nWednesday\, September 23\, 2020 | 11:00 am PST<br />\nAnswering the Top 10 Questions from Dealerships<br />\nYou&rsquo\;ve got questions &mdash\; we have answers. Join our panel of experts who will provide clarity as they discuss the top questions from dealership leaders.</p>\n
LOCATION:
UID:e.9238.1100
SEQUENCE:3
DTSTAMP:20260423T233415Z
URL:http://newcardealers.memberzone.com/events/details/join-mnp-webinar-series-what-dealerships-can-do-to-re-emerge-stronger-from-the-pandemic-1100
END:VEVENT

END:VCALENDAR
