BEGIN:VCALENDAR
VERSION:2.0
PRODID:-//ChamberMaster//Event Calendar 2.0//EN
METHOD:PUBLISH
X-PUBLISHED-TTL:P3D
REFRESH-INTERVAL:P3D
CALSCALE:GREGORIAN
BEGIN:VEVENT
DTSTART:20200924T130000Z
DTEND:20200924T210000Z
X-MICROSOFT-CDO-ALLDAYEVENT:FALSE
SUMMARY:JOIN THE ACE CONFERENCE! Returning September 24
DESCRIPTION:JOIN THE ACE CONFERENCE! Returning September 24\n\n \n\nWe are back! BC's Dealer Members are invited to join. With the industry's first-ever virtual event aimed to provide you with never published before content from expert speakers on the topics of the new buying experience\, digital retailing\, the future of auto\, and new technologies and trends. All from the comfort of your own home.\n\n\n\nTo register click here
X-ALT-DESC;FMTTYPE=text/html:<strong><span style="color:#403F42\;"><span style="font-family:segoe ui\,sans-serif\;"><span style="font-size:18.0pt\;">JOIN THE ACE CONFERENCE! Returning September 24</span></span></span></strong><br />\n&nbsp\;<br />\n<span style="color:#403F42\;"><span style="font-family:segoe ui\,sans-serif\;"><span style="font-size:12.0pt\;">We are back! BC&#39\;s Dealer Members are invited to join. With the industry&#39\;s first-ever virtual event aimed to provide you with never published before content from expert speakers on the topics of the new buying experience\, digital retailing\, the future of auto\, and new technologies and trends. All from the comfort of your own home.</span></span></span><br />\n<br />\nTo register click&nbsp\;<a href="http://r20.rs6.net/tn.jsp?f=0019-3o9JvRvvKWWdRi42wiGnWdZ-32wgNylmHq6r-AUkPLo3wGwGZVDj_S_ggLfwernoF4F3yaiutncXTk0thKNRHspg9Geud8tEMGSG0MMnbjszMDsklRgYLCIyLvDDcfrsc3KT41U_Zb9YE5V1UJlw==&amp\;c=ojzG4byyfg9qeDhT1_Gv5w4v2QLN2Gglg3TTGd7UKyoV05dzNs04Fg==&amp\;ch=F4KD-8AsHvVHbDo4oTC3M1EUn88MpfcQzozpAkandzwv6EG4gbHp4Q==">here</a>
LOCATION:
UID:e.9238.1103
SEQUENCE:3
DTSTAMP:20260423T233331Z
URL:http://newcardealers.memberzone.com/events/details/join-the-ace-conference-returning-september-24-1103
END:VEVENT

END:VCALENDAR
