BEGIN:VCALENDAR
VERSION:2.0
PRODID:-//ChamberMaster//Event Calendar 2.0//EN
METHOD:PUBLISH
X-PUBLISHED-TTL:P3D
REFRESH-INTERVAL:P3D
CALSCALE:GREGORIAN
BEGIN:VEVENT
DTSTART;VALUE=DATE:20200214
DTEND;VALUE=DATE:20200218
TRANSP:TRANSPARENT
X-MICROSOFT-CDO-ALLDAYEVENT:TRUE
SUMMARY:NADA Show 2020 - Save the Date
DESCRIPTION:Save up to $100 off the onsite price with Early Bird registration\, which ends Sept. 13\, 2019. Secure your spot for the NADA Auto Industry Event\, February 14-17\, 2020\, in Las Vegas! #NADASHOW Learn more: http://nadashow.org
X-ALT-DESC;FMTTYPE=text/html:Save up to $100 off the onsite price with Early Bird registration\, which ends Sept. 13\, 2019. Secure your spot for the NADA Auto Industry Event\, February 14-17\, 2020\, in Las Vegas! #NADASHOW Learn more: <a href="http://nadashow.org"><u>http://nadashow.org</u></a>&nbsp\;
LOCATION:The Las Vegas Convention Center 3150 Paradise Rd. Las Vegas\, NV 89109
UID:e.9238.1080
SEQUENCE:3
DTSTAMP:20260424T114719Z
URL:http://newcardealers.memberzone.com/events/details/nada-show-2020-save-the-date-1080
END:VEVENT

END:VCALENDAR
