BEGIN:VCALENDAR
VERSION:2.0
PRODID:-//ChamberMaster//Event Calendar 2.0//EN
METHOD:PUBLISH
X-PUBLISHED-TTL:P3D
REFRESH-INTERVAL:P3D
CALSCALE:GREGORIAN
BEGIN:VEVENT
DTSTART:20241010T160000Z
DTEND:20241010T170000Z
X-MICROSOFT-CDO-ALLDAYEVENT:FALSE
SUMMARY:NCDA Election 101 Webinar
DESCRIPTION:The New Car Dealers of BC and their members are at a critical juncture\, and now more than ever\, it's essential for dealers to engage and make their voices heard during this election. As we approach this pivotal moment\, NCDA is ramping up its government relations efforts to ensure the interests of the automotive industry are well represented and that dealers' priorities are effectively communicated to all candidates.\n\n\n\nThe outcome of this election will have significant implications for our industry\, from regulatory changes to economic policies that could impact your business. It's crucial to act now to protect and advocate for the future of BC's automotive sector.\n\n\n\nTo help you prepare\, we are excited to host our NCDA Election 101 Webinar  on October 10. This session will provide the tools and strategies needed to effectively communicate your concerns and engage in the campaign. RSVP HERE
X-ALT-DESC;FMTTYPE=text/html:The&nbsp\;<strong>New Car Dealers of BC</strong>&nbsp\;and their members are at a critical juncture\, and now more than ever\, it&rsquo\;s essential for dealers to engage and make their voices heard during this election. As we approach this pivotal moment\, NCDA is ramping up its government relations efforts to ensure the interests of the automotive industry are well represented and that dealers&rsquo\; priorities are effectively communicated to all candidates.<br />\n<br />\nThe outcome of this election will have significant implications for our industry\, from regulatory changes to economic policies that could impact your business. It&rsquo\;s crucial to act now to protect and advocate for the future of BC&rsquo\;s automotive sector.<br />\n<br />\nTo help you prepare\, we are excited to host our&nbsp\;<strong>NCDA Election 101 Webinar</strong>&nbsp\; on October 10. This session will provide the tools and strategies needed to effectively communicate your concerns and engage in the campaign. <a href="https://lp.constantcontactpages.com/ev/reg/q6eayv6/lp/d7835ff9-8356-4208-abaf-7bcd171d24cd"><span style="color:#0000CD\;"><strong>RSVP HERE</strong></span></a>
LOCATION:Join us via TEAMS after you RSVP
UID:e.9238.1153
SEQUENCE:3
DTSTAMP:20260420T003719Z
URL:http://newcardealers.memberzone.com/events/details/ncda-election-101-webinar-1153
END:VEVENT

END:VCALENDAR
