BEGIN:VCALENDAR
VERSION:2.0
PRODID:-//ChamberMaster//Event Calendar 2.0//EN
METHOD:PUBLISH
X-PUBLISHED-TTL:P3D
REFRESH-INTERVAL:P3D
CALSCALE:GREGORIAN
BEGIN:VEVENT
DTSTART:20200918T180000Z
DTEND:20200925T010000Z
X-MICROSOFT-CDO-ALLDAYEVENT:FALSE
SUMMARY:New Car Dealers Foundation and Special Olympics of BC Host 2020 Auction
DESCRIPTION:To join the auction and bid\, visit: https://www.auction2020.ca/\n\nProceeds support SOBC and the New Car Dealers Foundation with support for car career grants and scholarships.
X-ALT-DESC;FMTTYPE=text/html:To join the auction and bid\, visit: <u><a href="https://www.auction2020.ca/"><span style="color:#0000FF\;">https://www.auction2020.ca/</span></a></u><br />\nProceeds support SOBC and the New Car Dealers Foundation with support for car career grants and scholarships.
LOCATION:To join the auction and bid\, visit: https://www.auction2020.ca/
UID:e.9238.1102
SEQUENCE:3
DTSTAMP:20260423T233415Z
URL:http://newcardealers.memberzone.com/events/details/new-car-dealers-foundation-and-special-olympics-of-bc-host-2020-auction-1102
END:VEVENT

END:VCALENDAR
