BEGIN:VCALENDAR
VERSION:2.0
PRODID:-//ChamberMaster//Event Calendar 2.0//EN
METHOD:PUBLISH
X-PUBLISHED-TTL:P3D
REFRESH-INTERVAL:P3D
CALSCALE:GREGORIAN
BEGIN:VEVENT
DTSTART;VALUE=DATE:20210527
DTEND;VALUE=DATE:20210603
TRANSP:TRANSPARENT
X-MICROSOFT-CDO-ALLDAYEVENT:TRUE
SUMMARY:New Car Dealers Foundation / Special Olympics BC Auction
DESCRIPTION:The pandemic has shown that Special Olympics BC's year-round programs and empowering community matter now more so than ever. For many athletes with intellectual disabilities\, Special Olympics is the only place where they have friends\, where they are active and healthy\, where they are first and foremost seen for their abilities and talents. For many of them\, the pain of exclusion was already far too familiar. \n\nBy supporting the 2021 New Car Dealers Foundation / Special Olympics BC Auction\, you can have a lasting impact by helping Special Olympics BC reopen all of our sport and youth programs in 55 communities throughout our province. You'll help renew all of the friendships and opportunities that matter so much to our athletes (Meet our athletes)\, who are still too often forgotten and left behind by society. \n\nThis year's online auction will run May 27 to June 2\, making a difference for Special Olympics BC and the life-changing work of the New Car Dealers Foundation. Please consider donating\, bidding\, and spreading the word about the auction and its opportunities to change lives.\n\nFind out more about the 2021 auction and submit your generous donation\n\n\n\nFor Special Olympics website please follow this link.
X-ALT-DESC;FMTTYPE=text/html:<p style="box-sizing: inherit\; min-width: 0px\; min-height: 0px\; font-size: 16px\; line-height: 1.5625em\; margin: 0px 0px 1em\; color: rgb(38\, 38\, 38)\; font-family: Ubuntu\, sans-serif\;">The pandemic has shown that Special Olympics BC&rsquo\;s year-round programs and empowering community matter now more so than ever. For many athletes with intellectual disabilities\, Special Olympics is the only place where they have friends\, where they are active and healthy\, where they are first and foremost seen for their abilities and talents. For many of them\, the pain of exclusion was already far too familiar.&nbsp\;</p>\n\n<p style="box-sizing: inherit\; min-width: 0px\; min-height: 0px\; font-size: 16px\; line-height: 1.5625em\; margin: 0px 0px 1em\; color: rgb(38\, 38\, 38)\; font-family: Ubuntu\, sans-serif\;">By supporting the 2021 New Car Dealers Foundation / Special Olympics BC Auction\, you can have a lasting impact by helping Special Olympics BC reopen all of our sport and youth programs in 55 communities throughout our province. You&rsquo\;ll help renew all of the friendships and opportunities that matter so much to our athletes (<a href="http://www.youtube.com/watch?v=0C_rihub9ds&amp\;ab_channel=SpecialOlympicsBC">Meet our athletes</a>)\, who are still too often forgotten and left behind by society.&nbsp\;</p>\n\n<p style="box-sizing: inherit\; min-width: 0px\; min-height: 0px\; font-size: 16px\; line-height: 1.5625em\; margin: 0px 0px 1em\; color: rgb(38\, 38\, 38)\; font-family: Ubuntu\, sans-serif\;"><span style="font-size:18px\;"><span style="color:#FF0000\;"><strong><span style="box-sizing: inherit\; min-width: 0px\; min-height: 0px\; font-weight: 700\;">This year&rsquo\;s online auction will run May 27 to June 2</span>\,</strong></span></span> making a difference for Special Olympics BC and the life-changing work of the New Car Dealers Foundation. Please consider donating\, bidding\, and spreading the word about the auction and its opportunities to change lives.</p>\n\n<p style="box-sizing: inherit\; min-width: 0px\; min-height: 0px\; font-size: 16px\; line-height: 1.5625em\; margin: 0px 0px 1em\; color: rgb(38\, 38\, 38)\; font-family: Ubuntu\, sans-serif\;"><a data-entity-substitution="file" data-entity-type="file" data-entity-uuid="fba1944e-431b-4fe1-bb9b-3a46809f3649" href="https://www.specialolympics.ca/sites/default/files/NCDF_SOBC_Auction_2021_DonationPackage.pdf" style="box-sizing: inherit\; min-width: 0px\; min-height: 0px\; background-color: transparent\; color: rgb(0\, 99\, 165)\; transition: all 0.3s ease-out 0s\;" target="_blank" title="2021 NCDF/SOBC Auction Donation Package">Find out more about the 2021 auction and submit your generous donation</a><br />\n<br />\nFor Special Olympics website please follow this <a href="https://www.specialolympics.ca/british-columbia/ways-give/new-car-dealers-foundation-special-olympics-bc-auction">link.</a></p>\n
LOCATION:
UID:e.9238.1111
SEQUENCE:3
DTSTAMP:20260423T060657Z
URL:http://newcardealers.memberzone.com/events/details/new-car-dealers-foundation-special-olympics-bc-auction-1111
END:VEVENT

END:VCALENDAR
