BEGIN:VCALENDAR
VERSION:2.0
PRODID:-//ChamberMaster//Event Calendar 2.0//EN
METHOD:PUBLISH
X-PUBLISHED-TTL:P3D
REFRESH-INTERVAL:P3D
CALSCALE:GREGORIAN
BEGIN:VEVENT
DTSTART:20210727T220000Z
DTEND:20210727T223000Z
X-MICROSOFT-CDO-ALLDAYEVENT:FALSE
SUMMARY:Skilled Trades Certification (STC) - July 27\, 2021
DESCRIPTION:The BC Government is launching a new skilled trades certification system - Skilled Trades Certification (STC) is for 10 initial trades (automotive related: heavy-duty equipment technician\, automotive service technician and autobody and collision technician). \n\n\n\nFrom the BC News Release:\n\n"Skilled trades certification will increase prestige for the trades\, helping attract more people to trades careers. It will formally recognize the skills of current and future trades workers\, helping them keep working as the economy and industry's needs shift over time."\n\nThe province is planning engagement opportunities including a Survey and series of public roundtables. We are looking for your participation and input in this important process.\n\n\n\nRoundtable Schedule\n\n\n	July 27   3:00 to 3:30pm\n	July 28   10:30 to 11:00am\n	August 3   3:30 to 4:00pm\n\nLearn more about the Survey and Roundtables.
X-ALT-DESC;FMTTYPE=text/html:<p>The BC Government is&nbsp\;<a href="https://news.gov.bc.ca/releases/2021AEST0039-001140" target="_blank"><span style="color:#72A3D3\;">launching a new skilled trades certification system</span></a>&nbsp\;- Skilled Trades Certification (STC) is for 10 initial trades (automotive related: heavy-duty equipment technician\, automotive service technician and autobody and collision technician).&nbsp\;</p>\n\n<p><br />\n<strong><span style="font-family:calibri\,sans-serif\;">From the BC News Release:</span></strong><br />\n<em><span style="font-family:calibri\,sans-serif\;">&ldquo\;Skilled trades certification will increase prestige for the trades\, helping attract more people to trades careers. It will formally recognize the skills of current and future trades workers\, helping them keep working as the economy and industry&rsquo\;s needs shift over time.&rdquo\;</span></em><br />\nThe province is planning engagement opportunities including a&nbsp\;<a href="https://engage.gov.bc.ca/skilledtrades/online-survey/" target="_blank"><strong><span style="text-decoration-line:none\;"><span style="color:#72a3d3\;"><span style="font-family:calibri\,sans-serif\;">Survey</span></span></span></strong></a>&nbsp\;and series of&nbsp\;<a href="https://engage.gov.bc.ca/skilledtrades/community-dialogues-and-roundtables/" target="_blank"><strong><span style="text-decoration-line:none\;"><span style="color:#72a3d3\;"><span style="font-family:calibri\,sans-serif\;">public roundtables</span></span></span></strong></a>. We are looking for your participation and input in this important process.</p>\n\n<p><br />\n<strong><span style="font-family:calibri\,sans-serif\;">Roundtable Schedule</span></strong></p>\n\n<ul>\n	<li style="background-image:initial\;background-position:initial\;background-size:initial\;background-repeat:initial\;background-attachment:initial\;background-origin:initial\;background-clip:initial\;box-sizing:border-box\;">July 27 &ndash\; 3:00 to 3:30pm</li>\n	<li style="background-image:initial\;background-position:initial\;background-size:initial\;background-repeat:initial\;background-attachment:initial\;background-origin:initial\;background-clip:initial\;box-sizing:border-box\;">July 28 &ndash\; 10:30 to 11:00am</li>\n	<li style="background-image:initial\;background-position:initial\;background-size:initial\;background-repeat:initial\;background-attachment:initial\;background-origin:initial\;background-clip:initial\;box-sizing:border-box\;">August 3 &ndash\; 3:30 to 4:00pm</li>\n</ul>\n<a href="https://engage.gov.bc.ca/skilledtrades/online-survey/" target="_blank"><span style="color:#72A3D3\;">Learn more about the Survey and Roundtables.</span></a>
LOCATION:
UID:e.9238.1115
SEQUENCE:3
DTSTAMP:20260423T060624Z
URL:http://newcardealers.memberzone.com/events/details/skilled-trades-certification-stc-july-27-2021-1115
END:VEVENT

END:VCALENDAR
