BEGIN:VCALENDAR
VERSION:2.0
PRODID:-//ChamberMaster//Event Calendar 2.0//EN
METHOD:PUBLISH
X-PUBLISHED-TTL:P3D
REFRESH-INTERVAL:P3D
CALSCALE:GREGORIAN
BEGIN:VEVENT
DTSTART;VALUE=DATE:20220922
DTEND;VALUE=DATE:20220925
TRANSP:TRANSPARENT
X-MICROSOFT-CDO-ALLDAYEVENT:TRUE
SUMMARY:Western Canadian Dealer Summit
DESCRIPTION:The 2022 Western Canadian Dealer Summit returns at the Wynn in Las Vegas on September 22-24.\n\nThe Alberta\, B.C. and Saskatchewan Motor Dealers Associations have once again joined forces to host this fantastic event. For event details and registration\, visit: westerndealersummit.com\n\n\n\nSponsorship opportunities are available   contact Gerald Wood by email here.
X-ALT-DESC;FMTTYPE=text/html:<p>The 2022 Western Canadian Dealer Summit returns at the&nbsp\;Wynn in Las Vegas on September 22-24.</p>\n\n<p>The Alberta\, B.C. and Saskatchewan Motor Dealers Associations have once again joined forces to host this fantastic event. For event details and registration\, visit:&nbsp\;<a href="https://westerndealersummit.com/">westerndealersummit.com</a><br />\n<br />\nSponsorship opportunities are available &ndash\; contact Gerald Wood by <a href="mailto:gwood@mdaalberta.com">email here</a>.</p>\n
LOCATION:The Wynn in Las Vegas
UID:e.9238.1128
SEQUENCE:3
DTSTAMP:20260422T013440Z
URL:http://newcardealers.memberzone.com/events/details/western-canadian-dealer-summit-1128
END:VEVENT

END:VCALENDAR
