BEGIN:VCALENDAR
VERSION:2.0
PRODID:-//ChamberMaster//Event Calendar 2.0//EN
METHOD:PUBLISH
X-PUBLISHED-TTL:P3D
REFRESH-INTERVAL:P3D
CALSCALE:GREGORIAN
BEGIN:VEVENT
DTSTART;VALUE=DATE:20241114
DTEND;VALUE=DATE:20241118
TRANSP:TRANSPARENT
X-MICROSOFT-CDO-ALLDAYEVENT:TRUE
SUMMARY:Western Canadian Dealer Summit
DESCRIPTION:This November\, the MDA invites you to join us in beautiful Banff\, Alberta\, for a few days of top-notch entertainment\, engaging speakers\, plentiful network opportunities\, and invaluable learning experiences.\n\nStay ahead with the latest best practices for your dealership by registering for this year's Western Canadian Dealer Summit.\n\n\n\nWestern Canadian Dealer Summit (mdaalberta.com)
X-ALT-DESC;FMTTYPE=text/html:<p style="box-sizing: border-box\; border: 0px\; font-size: 16px\; margin: 0px 0px 1.6em\; outline: 0px\; padding: 0px\; vertical-align: baseline\; color: rgb(122\, 122\, 122)\; font-family: Poppins\, sans-serif\;">This November\, the MDA invites you to join us in beautiful Banff\, Alberta\, for a few days of top-notch entertainment\, engaging speakers\, plentiful network opportunities\, and invaluable learning experiences.</p>\n\n<p style="box-sizing: border-box\; border: 0px\; font-size: 16px\; margin: 0px 0px 1.6em\; outline: 0px\; padding: 0px\; vertical-align: baseline\; color: rgb(122\, 122\, 122)\; font-family: Poppins\, sans-serif\;">Stay ahead with the latest best practices for your dealership by registering for this year&rsquo\;s Western Canadian Dealer Summit.<br />\n<br />\n<a href="https://www.mdaalberta.com/western-canadian-dealer-summit">Western Canadian Dealer Summit (mdaalberta.com)</a>&nbsp\;</p>\n
LOCATION:Fairmont Banff Springs Hotel Banff\, Alberta
UID:e.9238.1155
SEQUENCE:3
DTSTAMP:20260419T210041Z
URL:http://newcardealers.memberzone.com/events/details/western-canadian-dealer-summit-1155
END:VEVENT

END:VCALENDAR
