BEGIN:VCALENDAR
VERSION:2.0
PRODID:-//ChamberMaster//Event Calendar 2.0//EN
METHOD:PUBLISH
X-PUBLISHED-TTL:P3D
REFRESH-INTERVAL:P3D
CALSCALE:GREGORIAN
BEGIN:VEVENT
DTSTART:20240515T190000Z
DTEND:20240515T210000Z
X-MICROSOFT-CDO-ALLDAYEVENT:FALSE
SUMMARY:Zero Emissions Vehicles Drive Up
DESCRIPTION:On May 15th\, swing by for a showcase of Zero Emission Vehicles\, as part of CleanBC's Go Electric Program. It's planned from 12 pm to 2 pm on the legislative front driveway/lawn. \n\nBritish Columbia Parliament Building's 152.4-meter (500-foot) long facade has been visible to anyone who has visited the Inner Harbour of Victoria since the buildings' completion in 1897.The grandeur of this historic site is truly captivating and the perfect location for this event to contrast with the technological innovation of ZEV.\n\n \n\nDon't miss out on this chance to connect with industry folks and get to experience the latest and greatest in ZEV from local dealerships.
X-ALT-DESC;FMTTYPE=text/html:<p style="margin: 0px\; padding: 0px\; color: rgb(52\, 51\, 50)\; font-family: Arial\, Verdana\, Helvetica\, sans-serif\; font-size: 16px\;"><span style="background-image:initial\;background-position:initial\;background-size:initial\;background-repeat:initial\;background-attachment:initial\;background-origin:initial\;background-clip:initial\;"><span style="color:#090909\;"><span style="font-family:arial\,sans-serif\;"><span style="font-size:12pt\;">On May 15th\, swing by for a showcase of Zero Emission Vehicles\, as part of CleanBC&#39\;s Go Electric Program. It&#39\;s planned from 12 pm to 2 pm on the legislative front driveway/lawn.&nbsp\;</span></span></span></span><br />\n<span arial="" background-color:="" font-size:="" helvetica="" meiryo="" microsoft="" segoe="" span="" style="font-weight:var(--cib-type-subtitle2-stronger-font-weight)\;font-variation-settings:var(--cib-type-subtitle2-stronger-font-variation-settings)\;" unicode=""><span style="background-image:initial\;background-position:initial\;background-size:initial\;background-repeat:initial\;background-attachment:initial\;background-origin:initial\;background-clip:initial\;"><span style="color:#111111\;"><span style="font-family:arial\,sans-serif\;"><span style="font-size:12pt\;">British Columbia Parliament Building&rsquo\;s </span></span></span></span><span style="background-image:initial\;background-position:initial\;background-size:initial\;background-repeat:initial\;background-attachment:initial\;background-origin:initial\;background-clip:initial\;"><span style="color:black\;"><span style="font-family:arial\,sans-serif\;"><span style="font-size:12pt\;">152.4-meter (500-foot) long facade</span></span></span></span>&nbsp\;has been visible to anyone who has visited the Inner Harbour of Victoria since the buildings&rsquo\; completion in&nbsp\;<span style="font-weight:var(--cib-type-subtitle2-stronger-font-weight)\;font-variation-settings:var(--cib-type-subtitle2-stronger-font-variation-settings)\;pointer-events:none\;"><span style="font-size:var(--cib-type-subtitle2-stronger-font-size)\;">1897.</span></span></span><span style="background-image:initial\;background-position:initial\;background-size:initial\;background-repeat:initial\;background-attachment:initial\;background-origin:initial\;background-clip:initial\;"><span style="color:#343332\;"><span style="font-family:arial\,sans-serif\;"><span style="font-size:12pt\;">The grandeur of this historic site is truly captivating and the perfect location for this event to contrast with the technological innovation of ZEV.</span></span></span></span><br />\n<span style="color:#343332\;"><span style="font-family:arial\,sans-serif\;"><span style="font-size:12.0pt\;">&nbsp\;<br />\n<span style="background-image:initial\;background-position:initial\;background-size:initial\;background-repeat:initial\;background-attachment:initial\;background-origin:initial\;background-clip:initial\;">Don&#39\;t miss out on this chance to connect with industry folks and get to experience the latest and greatest in ZEV from local dealerships.</span></span></span></span><br />\n&nbsp\;</p>\n
LOCATION:Legislative Assembly of BC 501 Belleville Street\, Victoria BC V8V 1X4 www.leg.bc.ca
UID:e.9238.1152
SEQUENCE:3
DTSTAMP:20260420T073738Z
URL:http://newcardealers.memberzone.com/events/details/zero-emissions-vehicles-drive-up-1152
END:VEVENT

END:VCALENDAR
